Workbook

Sheet CALCOLO
A1: INCENTIVO FUNZIONI TECNICHE (Art. 45 D.Lgs 36/2023 - REGOLAMENTO APPROVATO CON DECRETO PRESIDENTE PROVINCIA DI ANCONA N. 82 DEL 20/06/2024 SERVIZI E FORNITURE
A2: Oggetto
A6: PROGETTO P.N.R.R.? (SI/NO) | B6: SI
A8: Importo Base d'asta | B8: 186131 | C8: Incentivo | D8: =B8*B9/100 -> 3350.358 | I8: Tot. per Fase
A9: Percentuale prevista | B9: 1.8 | C9: 1° Fase | D9: 2° Fase | I9: 509.25
A10: Quota liquid.(c.3 art. 45 D.Lgs. 36/2023) | B10: =(B8*B9/100)*80/100 -> 2680.2864 | C10: =F15 -> 509.25442 | D10: =F17 -> 1634.9747
A11: Oneri | B11: =B10-B12 -> 654.3664 | C11: =(C10*B11)/B10 -> 124.32962 | D11: =D10*B11/B10 -> 399.1635 | I11: 1634.97
A12: Netto | B12: =ROUND(B10/1.323,2) -> 2025.92 | C12: =C10-C11 -> 384.9248 | D12: =D10-D11 -> 1235.8112 | I12: TOTALE INC.
I13: 2144.23
B14: PROCEDIM. A) - B) | C14: PROGETTO C) - D) | D14: DIR. esecuzione E) | E14: Conformità F) | F14: TOTALE PER FASE
A15: 1° Fase | B15: 0.5 | C15: 1 | D15: 0 | E15: 0 | F15: =SUM(B16:F16) -> 509.25442
B16: =SUM(F26:F36) -> 509.25442 | C16: =SUM(F41:F45) -> 0 | D16: 0 | E16: 0
A17: 2° Fase | B17: 0.5 | C17: 0 | D17: 1 | E17: 1 | F17: =SUM(B18:F18) -> 1634.9747
B18: =SUM(G26:G36) -> 509.25442 | C18: =SUM(G41:G45) -> 0 | D18: =SUM(G49:G57) -> 804.08592 | E18: =SUM(G59:G64) -> 321.63437
A19: totale per gruppo | B19: =SUM(B18,B16) -> 1018.5088 | C19: =SUM(C18,C16) -> 0 | D19: =SUM(D18,D16) -> 804.08592 | E19: =SUM(E18,E16) -> 321.63437 | F19: =SUM(B19:E20) -> 2144.2291
A21: Fondo c.5 art. 45 D.Lgs. 36/2023 | B21: =(B8*B9/100)*20/100 -> 670.0716 | I21: 1° FASE | O21: 2° FASE | U21: completo
I22: Nominativo 1 | J22: % | K22: Quota | L22: Nominativo 2 | M22: % | N22: Quota | O22: Nominativo 1 | P22: % | Q22: Quota | R22: Nominativo 2 | S22: % | T22: Quota | U22: Nominativo 1 | V22: Quota | W22: Nominativo 2 | X22: Quota
D23: Quote | E23: Importo | F23: 1° Fase | G23: 2° Fase | I23: Nominativo 3 | J23: % | K23: Quota | L23: Nominativo 4 | M23: % | N23: Quota | O23: Nominativo 3 | P23: % | Q23: Quota | R23: Nominativo 4 | S23: % | T23: Quota | U23: Nominativo 3 | V23: Quota | W23: Nominativo 4 | X23: Quota
I24: Nominativo 5 | J24: % | K24: Quota | L24: Nominativo 6 | M24: % | N24: Quota | O24: Nominativo 5 | P24: % | Q24: Quota | R24: Nominativo 6 | S24: % | T24: Quota | U24: Nominativo 5 | V24: Quota | W24: Nominativo 6 | X24: Quota
A25: A) R.U.P. e collaboratori tecnici e amministrativi | D25: =D26+D29 -> 34
A26: =IF(B6="SI","A1-Dirigente e Resp.Unico del Progetto R.U.P.","A1 - Respons. Unico del Progetto R.U.P.") -> A1-Dirigente e Resp.Unico del Progetto R.U.P. | D26: =IF(B6="SI",25,25) -> 25 | E26: =B10*D26/100 -> 670.0716 | F26: =E26*50/100 -> 335.0358 | G26: =E26*50/100 -> 335.0358 | H26: 50% - 50% | I26: ROSSETTI ROMINA | J26: =100-M26-J27-M27-J28-M28 -> 100 | K26: =IF(I26="",0,F26*J26%) -> 335.0358 | N26: =IF(L26="",0,(G26*M26/100)) -> 0 | O26: ROSSETTI ROMINA | P26: =100-S26-P27-S27-P28-S28 -> 100 | Q26: =IF(O26="",0,G26*P26%) -> 335.0358 | T26: =IF(R26="",0,(G26*S26/100)) -> 0 | U26: =IF(I26="","",I26) -> ROSSETTI ROMINA | V26: =K26+Q26 -> 670.0716 | W26: =IF(L26="","",L26) | X26: =N26+T26 -> 0
K27: =IF(I27="",0,F26*J27%) -> 0 | N27: =IF(L27="",0,(G26*M27/100)) -> 0 | Q27: =IF(O27="",0,G26*P27%) -> 0 | T27: =IF(R27="",0,G26*S27%) -> 0 | U27: =IF(I27="","",I27) | V27: =K27+Q27 -> 0 | W27: =IF(L27="","",L27) | X27: =N27+T27 -> 0
K28: =IF(I28="",0,F26*J28%) -> 0 | N28: =IF(L28="",0,(G26*M28/100)) -> 0 | Q28: =IF(O28="",0,G26*P28%) -> 0 | T28: =IF(R28="",0,G26*S28%) -> 0 | U28: =IF(I28="","",I28) | V28: =K28+Q28 -> 0 | W28: =IF(L28="","",L28) | X28: =N28+T28 -> 0
A29: A2 - Collaboratori del R.U.P. | D29: 9 | E29: =B10*D29/100 -> 241.22578 | F29: =E29*50/100 -> 120.61289 | G29: =E29*50/100 -> 120.61289 | H29: 50% - 50% | I29: ALESSANDRONI | J29: 100 | K29: =IF(I29="",0,F29*J29/100) -> 120.61289 | M29: 0 | N29: =IF(L29="",0,(F29*M29/100)) -> 0 | O29: ALESSANDRONI | P29: 100 | Q29: =IF(O29="",0,G29*P29/100) -> 120.61289 | S29: 0 | T29: =IF(R29="",0,(G29*S29/100)) -> 0 | U29: =IF(I29="","",I29) -> ALESSANDRONI | V29: =K29+Q29 -> 241.22578 | W29: =IF(L29="","",L29) | X29: =N29+T29 -> 0
K30: =IF(I30="",0,(F29*J30/100)) -> 0 | N30: =IF(L30="",0,(F29*M30/100)) -> 0 | Q30: =IF(O30="",0,(G29*P30/100)) -> 0 | T30: =IF(R30="",0,(G29*S30/100)) -> 0 | U30: =IF(I30="","",I30) | V30: =K30+Q30 -> 0 | W30: =IF(L30="","",L30) | X30: =N30+T30 -> 0
K31: =IF(I31="",0,(F29*J31/100)) -> 0 | N31: =IF(L31="",0,(F29*M31/100)) -> 0 | Q31: =IF(O31="",0,(G29*P31/100)) -> 0 | T31: =IF(R31="",0,(G29*S31/100)) -> 0 | U31: =IF(I31="","",I31) | V31: =K31+Q31 -> 0 | W31: =IF(L31="","",L31) | X31: =N31+T31 -> 0
A32: B)Programmazione della spesa per investimenti | D32: =D33+D36 -> 4
A33: B1 - Programmaz. Parte tecnica | D33: 0 | E33: =B10*D33/100 -> 0 | F33: =E33*50/100 -> 0 | G33: =E33*50/100 -> 0 | H33: 50% - 50% | J33: =100-M33-J35-M35-J34-M34 -> 100 | K33: =IF(I33="",0,F33*J33/100) -> 0 | N33: =IF(L33="",0,(F33*M33/100)) -> 0 | P33: =100-S33-P35-S35-P34-S34 -> 100 | Q33: =IF(O33="",0,G33*P33/100) -> 0 | T33: =IF(R33="",0,(G33*S33/100)) -> 0 | U33: =IF(I33="","",I33) | V33: =K33+Q33 -> 0 | W33: =IF(L33="","",L33) | X33: =N33+T33 -> 0
K34: =IF(I34="",0,(F33*J34/100)) -> 0 | N34: =IF(L34="",0,(F33*M34/100)) -> 0 | Q34: =IF(O34="",0,(G33*P34/100)) -> 0 | T34: =IF(R34="",0,(G33*S34/100)) -> 0 | U34: =IF(I34="","",I34) | V34: =K34+Q34 -> 0 | W34: =IF(L34="","",L34) | X34: =N34+T34 -> 0
K35: =IF(I35="",0,(F33*J35/100)) -> 0 | N35: =IF(L35="",0,(F33*M35/100)) -> 0 | Q35: =IF(O35="",0,(G33*P35/100)) -> 0 | T35: =IF(R35="",0,(G33*S35/100)) -> 0 | U35: =IF(I35="","",I35) | V35: =K35+Q35 -> 0 | W35: =IF(L35="","",L35) | X35: =N35+T35 -> 0
A36: B2 - Programmaz. Parte contabile | D36: 4 | E36: =B10*D36/100*IF(C36="x",0,1) -> 107.21146 | F36: =E36*50/100 -> 53.605728 | G36: =E36*50/100 -> 53.605728 | H36: 50% - 50% | I36: CERESANI | J36: 14.28 | K36: 7.67 | L36: KARAPYSH | M36: 14.28 | N36: =IF(L36="",0,(F36*M36/100)) -> 7.654898 | O36: CERESANI | P36: 14.28 | Q36: 7.67 | R36: KARAPYSH | S36: 14.28 | T36: =IF(R36="",0,(G36*S36/100)) -> 7.654898 | U36: =IF(I36="","",I36) -> CERESANI | V36: =K36+Q36 -> 15.34 | W36: =IF(L36="","",L36) -> KARAPYSH | X36: =N36+T36 -> 15.309796
I37: BUFFARINI | J37: 14.28 | K37: 7.67 | L37: LOCCIONI | M37: 14.28 | N37: =IF(L37="",0,(F36*M37/100)) -> 7.654898 | O37: BUFFARINI | P37: 14.28 | Q37: 7.67 | R37: LOCCIONI | S37: 14.28 | T37: =IF(R37="",0,(G36*S37/100)) -> 7.654898 | U37: =IF(I37="","",I37) -> BUFFARINI | V37: =K37+Q37 -> 15.34 | W37: =IF(L37="","",L37) -> LOCCIONI | X37: =N37+T37 -> 15.309796
I38: IELENCOVICH | J38: 14.28 | K38: 7.66 | L38: VENTURA | M38: 14.28 | N38: =IF(L38="",0,(F36*M38/100)) -> 7.654898 | O38: IELENCOVICH | P38: 14.28 | Q38: 7.66 | R38: VENTURA | S38: 14.28 | T38: =IF(R38="",0,(G36*S38/100)) -> 7.654898 | U38: =IF(I38="","",I38) -> IELENCOVICH | V38: =K38+Q38 -> 15.32 | W38: =IF(L38="","",L38) -> VENTURA | X38: =N38+T38 -> 15.309796
I39: ROMAGNOLI J. | J39: 14.2 | K39: 7.65 | O39: ROMAGNOLI J. | P39: 14.2 | Q39: 7.65 | U39: =IF(I39="","",I39) -> ROMAGNOLI J. | V39: =K39+Q39 -> 15.3
A40: C) Attività di progettazione - NO | D40: 0
A41: C1 PROGETTAZIONE LIVELLO UNICO | D41: 0 | E41: =B10*D41/100 -> 0 | F41: =E41 -> 0 | G41: =E41*0 -> 0 | H41: 100% - 0% | J41: =100-M41-J43-M43-J42-M42 -> 100 | K41: =IF(I41="",0,F41*J41/100) -> 0 | N41: =IF(L41="",0,(F41*M41/100)) -> 0 | P41: =100-S41-P43-S43-P42-S42 -> 100 | Q41: =IF(O41="",0,G41*P41/100) -> 0 | T41: =IF(R41="",0,(G41*S41/100)) -> 0 | U41: =IF(I41="","",I41) | V41: =K41+Q41 -> 0 | W41: =IF(L41="","",L41) | X41: =N41+T41 -> 0
A42: (non dovuto per procedure MEPA o consip o similari) | K42: =IF(I42="",0,(F41*J42/100)) -> 0 | N42: =IF(L42="",0,(F41*M42/100)) -> 0 | Q42: =IF(O42="",0,(G41*P42/100)) -> 0 | T42: =IF(R42="",0,(G41*S42/100)) -> 0 | U42: =IF(I42="","",I42) | V42: =K42+Q42 -> 0 | W42: =IF(L42="","",L42) | X42: =N42+T42 -> 0
K43: =IF(I43="",0,(F41*J43/100)) -> 0 | N43: =IF(L43="",0,(F41*M43/100)) -> 0 | Q43: =IF(O43="",0,(G41*P43/100)) -> 0 | T43: =IF(R43="",0,(G41*S43/100)) -> 0 | U43: =IF(I43="","",I43) | V43: =K43+Q43 -> 0 | W43: =IF(L43="","",L43) | X43: =N43+T43 -> 0
A44: D) - Attività di Predisposizione, svolgimento e controllo procedure di gara e relativa responsabilità di fase - NO | D44: 0
A45: D1 - Attività di Predisposizione, svolgimento e controllo procedure di gara e relativa responsabiità di fase | D45: 0 | E45: =B10*D45/100*IF(C45="x",0,1) -> 0 | F45: =E45 -> 0 | G45: =E45*0 -> 0 | H45: 100% - 0% | J45: =100-M45-J47-M47-J46-M46 -> 100 | K45: =IF(I45="",0,F45*J45/100) -> 0 | N45: =IF(L45="",0,(F45*M45/100)) -> 0 | P45: =IF(C45="x","",100-S45-P47-S47-P46-S46) -> 100 | Q45: =IF(O45="",0,G45*P45/100) -> 0 | T45: =IF(R45="",0,(G45*S45/100)) -> 0 | U45: =IF(I45="","",I45) | V45: =K45+Q45 -> 0 | W45: =IF(L45="","",L45) | X45: =N45+T45 -> 0
...

Sheet Liquidazione
A1: Provincia di Ancona
B2: INCENTIVO FUNZIONI TECNICHE (Art. 45 D.Lgs 36/2023 - REGOLAMENTO APPROVATO CON DECRETO PRESIDENTE PROVINCIA DI ANCONA N. 82 DEL 20/06/2024
A3: Allegato 1 - Ripartizione incentivo - Liquidazione
A6: Oggetto: | C6: =CALCOLO!B2 -> 0
A8: =CALCOLO!A6 -> PROGETTO P.N.R.R.? (SI/NO) | D8: =CALCOLO!B6 -> SI
A9: Importo a base d'asta | D9: =CALCOLO!B8 -> 186131 | G9: 20% Fondo (art.45 c.5 Dlgs 36/2023) | I9: =CALCOLO!B21 -> 670.0716 | J9: PROCED. A) - B) | L9: PROGETTO C) - D) | N9: DIR. LAVORI E) | P9: COLLAUDO F) | R9: Tot. per Fase
A10: Quota incentivo | D10: =CALCOLO!D8 -> 3350.358 | G10: 1° Fase | J10: 0.5 | L10: 1 | N10: 0 | P10: 0 | R10: =CALCOLO!F15 -> 509.25442
A11: % da appplicare | D11: =CALCOLO!B9 -> 1.8 | J11: =CALCOLO!B16 -> 509.25442 | L11: =CALCOLO!C16 -> 0 | N11: =CALCOLO!D16 -> 0 | P11: =CALCOLO!E16 -> 0
A12: Quota liquidabile | D12: =CALCOLO!B10 -> 2680.2864 | G12: 2°Fase | J12: 0.5 | L12: 0 | N12: 1 | P12: 1 | R12: =CALCOLO!F17 -> 1634.9747
A13: Netto | D13: =CALCOLO!B12 -> 2025.92 | J13: =CALCOLO!B18 -> 509.25442 | L13: =CALCOLO!C18 -> 0 | N13: =CALCOLO!D18 -> 804.08592 | P13: =CALCOLO!E18 -> 321.63437
A14: Oneri | D14: =CALCOLO!B11 -> 654.3664 | G14: Tot. Gruppo | J14: =CALCOLO!B19 -> 1018.5088 | L14: =CALCOLO!C19 -> 0 | N14: =CALCOLO!D19 -> 804.08592 | P14: =CALCOLO!E19 -> 321.63437 | R14: =CALCOLO!F19 -> 2144.2291
D17: I Fase | J17: II Fase | P17: Totale
B18: Nominativo | D18: Incentivo lordo | F18: Oneri | H18: Incentivo Netto | J18: Incentivo lordo | L18: Oneri | N18: incentivo Netto | P18: Tot. lordo | R18: Tot. netto
A19: =IF(B19="","",1) -> 1 | B19: ROSSETTI ROMINA | D19: 335.04 | F19: =IF(D19="","",IF(D19=0,"",(D19/1.323*(32.3/100)))) -> 81.79737 | H19: =IF(D19="","",IF(B19="","",(D19-F19))) -> 253.24263 | J19: 335.04 | L19: =IF(B19="","",(J19/1.323*(32.3/100))) -> 81.79737 | N19: =IF(B19="","",(J19-L19)) -> 253.24263 | P19: =IF(B19="","",(IF(D19="",0,D19)+IF(J19="",0,J19))) -> 670.08 | R19: =IF(B19="","",(IF(H19="",0,H19)+IF(N19="",0,N19))) -> 506.48526
A20: =IF(B20="","",(A19+1)) -> 2 | B20: ALESSANDRONI FRANCESCA | D20: 120.61 | F20: =IF(D20="","",IF(D20=0,"",(D20/1.323*(32.3/100)))) -> 29.445979 | H20: =IF(D20="","",IF(B20="","",(D20-F20))) -> 91.164021 | J20: 120.61 | L20: =IF(B20="","",(J20/1.323*(32.3/100))) -> 29.445979 | N20: =IF(B20="","",(J20-L20)) -> 91.164021 | P20: =IF(B20="","",(IF(D20="",0,D20)+IF(J20="",0,J20))) -> 241.22 | R20: =IF(B20="","",(IF(H20="",0,H20)+IF(N20="",0,N20))) -> 182.32804
A21: =IF(B21="","",(A20+1)) -> 3 | B21: CERESANI ANNA | D21: 7.67 | F21: =IF(D21="","",IF(D21=0,"",(D21/1.323*(32.3/100)))) -> 1.8725699 | H21: =IF(D21="","",IF(B21="","",(D21-F21))) -> 5.7974301 | J21: 7.67 | L21: =IF(B21="","",(J21/1.323*(32.3/100))) -> 1.8725699 | N21: =IF(B21="","",(J21-L21)) -> 5.7974301 | P21: =IF(B21="","",(IF(D21="",0,D21)+IF(J21="",0,J21))) -> 15.34 | R21: =IF(B21="","",(IF(H21="",0,H21)+IF(N21="",0,N21))) -> 11.59486 | U21: METTERE "X" NELLA CASELLA CORRISPONDENTE ALLA FASE NON INTERESSATA AL PAGAMENTO
A22: =IF(B22="","",(A21+1)) -> 4 | B22: KARAPYSH NATALIYA | D22: 7.65 | F22: =IF(D22="","",IF(D22=0,"",(D22/1.323*(32.3/100)))) -> 1.8676871 | H22: =IF(D22="","",IF(B22="","",(D22-F22))) -> 5.7823129 | J22: 7.65 | L22: =IF(B22="","",(J22/1.323*(32.3/100))) -> 1.8676871 | N22: =IF(B22="","",(J22-L22)) -> 5.7823129 | P22: =IF(B22="","",(IF(D22="",0,D22)+IF(J22="",0,J22))) -> 15.3 | R22: =IF(B22="","",(IF(H22="",0,H22)+IF(N22="",0,N22))) -> 11.564626
A23: =IF(B23="","",(A22+1)) -> 5 | B23: BUFFARINI GRAZIELLA | D23: 7.67 | F23: =IF(D23="","",IF(D23=0,"",(D23/1.323*(32.3/100)))) -> 1.8725699 | H23: =IF(D23="","",IF(B23="","",(D23-F23))) -> 5.7974301 | J23: 7.67 | L23: =IF(B23="","",(J23/1.323*(32.3/100))) -> 1.8725699 | N23: =IF(B23="","",(J23-L23)) -> 5.7974301 | P23: =IF(B23="","",(IF(D23="",0,D23)+IF(J23="",0,J23))) -> 15.34 | R23: =IF(B23="","",(IF(H23="",0,H23)+IF(N23="",0,N23))) -> 11.59486
A24: =IF(B24="","",(A23+1)) -> 6 | B24: LOCCIONI LORENA | D24: 7.65 | F24: =IF(D24="","",IF(D24=0,"",(D24/1.323*(32.3/100)))) -> 1.8676871 | H24: =IF(D24="","",IF(B24="","",(D24-F24))) -> 5.7823129 | J24: 7.65 | L24: =IF(B24="","",(J24/1.323*(32.3/100))) -> 1.8676871 | N24: =IF(B24="","",(J24-L24)) -> 5.7823129 | P24: =IF(B24="","",(IF(D24="",0,D24)+IF(J24="",0,J24))) -> 15.3 | R24: =IF(B24="","",(IF(H24="",0,H24)+IF(N24="",0,N24))) -> 11.564626
A25: =IF(B25="","",(A24+1)) -> 7 | B25: IELENCOVICH ROMINA | D25: 7.66 | F25: =IF(D25="","",IF(D25=0,"",(D25/1.323*(32.3/100)))) -> 1.8701285 | H25: =IF(D25="","",IF(B25="","",(D25-F25))) -> 5.7898715 | J25: 7.66 | L25: =IF(B25="","",(J25/1.323*(32.3/100))) -> 1.8701285 | N25: =IF(B25="","",(J25-L25)) -> 5.7898715 | P25: =IF(B25="","",(IF(D25="",0,D25)+IF(J25="",0,J25))) -> 15.32 | R25: =IF(B25="","",(IF(H25="",0,H25)+IF(N25="",0,N25))) -> 11.579743
A26: =IF(B26="","",(A25+1)) -> 8 | B26: VENTURA GIUSEPPINA | D26: 7.65 | F26: =IF(D26="","",IF(D26=0,"",(D26/1.323*(32.3/100)))) -> 1.8676871 | H26: =IF(D26="","",IF(B26="","",(D26-F26))) -> 5.7823129 | J26: 7.65 | L26: =IF(B26="","",(J26/1.323*(32.3/100))) -> 1.8676871 | N26: =IF(B26="","",(J26-L26)) -> 5.7823129 | P26: =IF(B26="","",(IF(D26="",0,D26)+IF(J26="",0,J26))) -> 15.3 | R26: =IF(B26="","",(IF(H26="",0,H26)+IF(N26="",0,N26))) -> 11.564626
A27: =IF(B27="","",(A26+1)) -> 9 | B27: ROMAGNOLI JENNY | D27: 7.65 | F27: =IF(D27="","",IF(D27=0,"",(D27/1.323*(32.3/100)))) -> 1.8676871 | H27: =IF(D27="","",IF(B27="","",(D27-F27))) -> 5.7823129 | J27: 7.65 | L27: =IF(B27="","",(J27/1.323*(32.3/100))) -> 1.8676871 | N27: =IF(B27="","",(J27-L27)) -> 5.7823129 | P27: =IF(B27="","",(IF(D27="",0,D27)+IF(J27="",0,J27))) -> 15.3 | R27: =IF(B27="","",(IF(H27="",0,H27)+IF(N27="",0,N27))) -> 11.564626
A28: =IF(B28="","",(A27+1)) -> 10 | B28: SCOZZARI MARCO | J28: 670.07 | L28: =IF(B28="","",(J28/1.323*(32.3/100))) -> 163.5923 | N28: =IF(B28="","",(J28-L28)) -> 506.4777 | P28: 670.07 | R28: 506.49
A29: =IF(B29="","",(A28+1)) -> 11 | B29: BALZANI CARMEN | J29: 134.01 | L29: =IF(B29="","",(J29/1.323*(32.3/100))) -> 32.717483 | N29: =IF(B29="","",(J29-L29)) -> 101.29252 | P29: 134.01 | R29: 101.29
A30: =IF(B30="","",(A29+1)) -> 12 | B30: CAMPOLUCCI ALBERTO | J30: 80.41 | L30: =IF(B30="","",(J30/1.323*(32.3/100))) -> 19.631466 | N30: =IF(B30="","",(J30-L30)) -> 60.778534 | P30: 80.41 | R30: 60.78
A31: =IF(B31="","",(A30+1)) -> 13 | B31: BARCHIESI MARCO | J31: 53.61 | L31: =IF(B31="","",(J31/1.323*(32.3/100))) -> 13.088458 | N31: =IF(B31="","",(J31-L31)) -> 40.521542 | P31: 53.61 | R31: 40.52
A32: =IF(B32="","",(A31+1)) -> 14 | B32: ROMAGNOLI LUIGI | J32: 187.62 | L32: =IF(B32="","",(J32/1.323*(32.3/100))) -> 45.805941 | N32: =IF(B32="","",(J32-L32)) -> 141.81406 | P32: 187.62 | R32: 141.81
A33: =IF(B33="","",(A32+1)) | D33: =IF(B33="","",IF(#REF!=0,"",#REF!)) | F33: =IF(D33="","",IF(D33=0,"",(D33/1.323*(32.3/100)))) | H33: =IF(D33="","",IF(B33="","",(D33-F33))) | J33: =IF(B33="","",(#REF!+#REF!)) | L33: =IF(B33="","",(J33/1.323*(32.3/100))) | N33: =IF(B33="","",(J33-L33)) | P33: =IF(B33="","",(IF(D33="",0,D33)+IF(J33="",0,J33))) | R33: =IF(B33="","",(IF(H33="",0,H33)+IF(N33="",0,N33)))
A34: =IF(B34="","",(A33+1)) | D34: =IF(B34="","",IF(#REF!=0,"",#REF!)) | F34: =IF(D34="","",IF(D34=0,"",(D34/1.323*(32.3/100)))) | H34: =IF(D34="","",IF(B34="","",(D34-F34))) | J34: =IF(B34="","",(#REF!+#REF!)) | L34: =IF(B34="","",(J34/1.323*(32.3/100))) | N34: =IF(B34="","",(J34-L34)) | P34: =IF(B34="","",(IF(D34="",0,D34)+IF(J34="",0,J34))) | R34: =IF(B34="","",(IF(H34="",0,H34)+IF(N34="",0,N34)))
A35: =IF(B35="","",(A34+1)) | D35: =IF(B35="","",IF(#REF!=0,"",#REF!)) | F35: =IF(D35="","",IF(D35=0,"",(D35/1.323*(32.3/100)))) | H35: =IF(D35="","",IF(B35="","",(D35-F35))) | J35: =IF(B35="","",(#REF!+#REF!)) | L35: =IF(B35="","",(J35/1.323*(32.3/100))) | N35: =IF(B35="","",(J35-L35)) | P35: =IF(B35="","",(IF(D35="",0,D35)+IF(J35="",0,J35))) | R35: =IF(B35="","",(IF(H35="",0,H35)+IF(N35="",0,N35)))
A36: =IF(B36="","",(A35+1)) | D36: =IF(B36="","",IF(#REF!=0,"",#REF!)) | F36: =IF(D36="","",IF(D36=0,"",(D36/1.323*(32.3/100)))) | H36: =IF(D36="","",IF(B36="","",(D36-F36))) | J36: =IF(B36="","",(#REF!+#REF!)) | L36: =IF(B36="","",(J36/1.323*(32.3/100))) | N36: =IF(B36="","",(J36-L36)) | P36: =IF(B36="","",(IF(D36="",0,D36)+IF(J36="",0,J36))) | R36: =IF(B36="","",(IF(H36="",0,H36)+IF(N36="",0,N36)))
A37: =IF(B37="","",(A36+1)) | D37: =IF(B37="","",IF(#REF!=0,"",#REF!)) | F37: =IF(D37="","",IF(D37=0,"",(D37/1.323*(32.3/100)))) | H37: =IF(D37="","",IF(B37="","",(D37-F37))) | J37: =IF(B37="","",(#REF!+#REF!)) | L37: =IF(B37="","",(J37/1.323*(32.3/100))) | N37: =IF(B37="","",(J37-L37)) | P37: =IF(B37="","",(IF(D37="",0,D37)+IF(J37="",0,J37))) | R37: =IF(B37="","",(IF(H37="",0,H37)+IF(N37="",0,N37)))
A38: =IF(B38="","",(A37+1)) | D38: =IF(B38="","",IF(#REF!=0,"",#REF!)) | F38: =IF(D38="","",IF(D38=0,"",(D38/1.323*(32.3/100)))) | H38: =IF(D38="","",IF(B38="","",(D38-F38))) | J38: =IF(B38="","",(#REF!+#REF!)) | L38: =IF(B38="","",(J38/1.323*(32.3/100))) | N38: =IF(B38="","",(J38-L38)) | P38: =IF(B38="","",(IF(D38="",0,D38)+IF(J38="",0,J38))) | R38: =IF(B38="","",(IF(H38="",0,H38)+IF(N38="",0,N38)))
A39: =IF(B39="","",(A38+1)) | D39: =IF(B39="","",IF(#REF!=0,"",#REF!)) | F39: =IF(D39="","",IF(D39=0,"",(D39/1.323*(32.3/100)))) | H39: =IF(D39="","",IF(B39="","",(D39-F39))) | J39: =IF(B39="","",(#REF!+#REF!)) | L39: =IF(B39="","",(J39/1.323*(32.3/100))) | N39: =IF(B39="","",(J39-L39)) | P39: =IF(B39="","",(IF(D39="",0,D39)+IF(J39="",0,J39))) | R39: =IF(B39="","",(IF(H39="",0,H39)+IF(N39="",0,N39)))
A40: =IF(B40="","",(A39+1)) | D40: =IF(B40="","",IF(#REF!=0,"",#REF!)) | F40: =IF(D40="","",IF(D40=0,"",(D40/1.323*(32.3/100)))) | H40: =IF(D40="","",IF(B40="","",(D40-F40))) | J40: =IF(B40="","",(#REF!+#REF!)) | L40: =IF(B40="","",(J40/1.323*(32.3/100))) | N40: =IF(B40="","",(J40-L40)) | P40: =IF(B40="","",(IF(D40="",0,D40)+IF(J40="",0,J40))) | R40: =IF(B40="","",(IF(H40="",0,H40)+IF(N40="",0,N40)))
A41: =IF(B41="","",(A40+1)) | D41: =IF(B41="","",IF(#REF!=0,"",#REF!)) | F41: =IF(D41="","",IF(D41=0,"",(D41/1.323*(32.3/100)))) | H41: =IF(D41="","",IF(B41="","",(D41-F41))) | J41: =IF(B41="","",(#REF!+#REF!)) | L41: =IF(B41="","",(J41/1.323*(32.3/100))) | N41: =IF(B41="","",(J41-L41)) | P41: =IF(B41="","",(IF(D41="",0,D41)+IF(J41="",0,J41))) | R41: =IF(B41="","",(IF(H41="",0,H41)+IF(N41="",0,N41)))
A42: =IF(B42="","",(A41+1)) | D42: =IF(B42="","",IF(#REF!=0,"",#REF!)) | F42: =IF(D42="","",IF(D42=0,"",(D42/1.323*(32.3/100)))) | H42: =IF(D42="","",IF(B42="","",(D42-F42))) | J42: =IF(B42="","",(#REF!+#REF!)) | L42: =IF(B42="","",(J42/1.323*(32.3/100))) | N42: =IF(B42="","",(J42-L42)) | P42: =IF(B42="","",(IF(D42="",0,D42)+IF(J42="",0,J42))) | R42: =IF(B42="","",(IF(H42="",0,H42)+IF(N42="",0,N42)))
A43: =IF(B43="","",(A42+1)) | D43: =IF(B43="","",IF(#REF!=0,"",#REF!)) | F43: =IF(D43="","",IF(D43=0,"",(D43/1.323*(32.3/100)))) | H43: =IF(D43="","",IF(B43="","",(D43-F43))) | J43: =IF(B43="","",(#REF!+#REF!)) | L43: =IF(B43="","",(J43/1.323*(32.3/100))) | N43: =IF(B43="","",(J43-L43)) | P43: =IF(B43="","",(IF(D43="",0,D43)+IF(J43="",0,J43))) | R43: =IF(B43="","",(IF(H43="",0,H43)+IF(N43="",0,N43)))
A44: =IF(B44="","",(A43+1)) | D44: =IF(B44="","",IF(#REF!=0,"",#REF!)) | F44: =IF(D44="","",IF(D44=0,"",(D44/1.323*(32.3/100)))) | H44: =IF(D44="","",IF(B44="","",(D44-F44))) | J44: =IF(B44="","",(#REF!+#REF!)) | L44: =IF(B44="","",(J44/1.323*(32.3/100))) | N44: =IF(B44="","",(J44-L44)) | P44: =IF(B44="","",(IF(D44="",0,D44)+IF(J44="",0,J44))) | R44: =IF(B44="","",(IF(H44="",0,H44)+IF(N44="",0,N44)))
... A46: =IF(B46="","",(A45+1)) | D46: =IF(B46="","",IF(#REF!=0,"",#REF!)) | F46: =IF(D46="","",IF(D46=0,"",(D46/1.323*(32.3/100)))) | H46: =IF(D46="","",IF(B46="","",(D46-F46))) | J46: =IF(B46="","",(#REF!+#REF!)) | L46: =IF(B46="","",(J46/1.323*(32.3/100))) | N46: =IF(B46="","",(J46-L46)) | P46: =IF(B46="","",(IF(D46="",0,D46)+IF(J46="",0,J46))) | R46: =IF(B46="","",(IF(H46="",0,H46)+IF(N46="",0,N46)))
...

Sheet Gruppo di Lavoro
A1: Provincia di Ancona
B2: INCENTIVO FUNZIONI TECNICHE (Art. 45 D.Lgs 36/2023 - REGOLAMENTO APPROVATO CON DECRETO PRESIDENTE PROVINCIA DI ANCONA N. 82 DEL 20/06/2024
A3: Costituzione del Gruppo di Lavoro
A6: Oggetto: | C6: =CALCOLO!B2 -> 0
A8: =CALCOLO!A6 -> PROGETTO P.N.R.R.? (SI/NO) | D8: =CALCOLO!B6 -> SI
B9: Importo a base d'asta | D9: =CALCOLO!B8 -> 186131 | G9: 20% Fondo (art.113 c.4) | I9: =CALCOLO!B21 -> 670.0716 | J9: =CALCOLO!B14 -> PROCEDIM. A) - B) | L9: =CALCOLO!C14 -> PROGETTO C) - D) | N9: =CALCOLO!D14 -> DIR. esecuzione E) | P9: =CALCOLO!E14 -> Conformità F) | R9: Tot. per Fase
B10: Quota incentivo | D10: =CALCOLO!D8 -> 3350.358 | G10: 1° Fase | J10: 0.5 | L10: 1 | N10: 0 | P10: 0 | R10: =CALCOLO!F15 -> 509.25442
B11: % da appplicare | D11: =CALCOLO!B9 -> 1.8 | J11: =CALCOLO!B16 -> 509.25442 | L11: =CALCOLO!C16 -> 0 | N11: =CALCOLO!D16 -> 0 | P11: =CALCOLO!E16 -> 0
B12: Quota liquidabile 80% | D12: =CALCOLO!B10 -> 2680.2864 | G12: 2°Fase | J12: 0.5 | L12: 0 | N12: 1 | P12: 1 | R12: =CALCOLO!F17 -> 1634.9747
C13: Netto | D13: =CALCOLO!B12 -> 2025.92 | J13: =CALCOLO!B18 -> 509.25442 | L13: =CALCOLO!C18 -> 0 | N13: =CALCOLO!D18 -> 804.08592 | P13: =CALCOLO!E18 -> 321.63437
C14: Oneri | D14: =CALCOLO!B11 -> 654.3664 | G14: Tot. Gruppo | J14: =CALCOLO!B19 -> 1018.5088 | L14: =CALCOLO!C19 -> 0 | N14: =CALCOLO!D19 -> 804.08592 | P14: =CALCOLO!E19 -> 321.63437 | R14: =CALCOLO!F19 -> 2144.2291
F18: % | G18: Nominativi
G19: 1 | I19: 2 | K19: 3 | M19: 4 | O19: 5 | Q19: 6
A20: 1° Fase | B20: =CALCOLO!A25 -> A) R.U.P. e collaboratori tecnici e amministrativi
B21: =CALCOLO!A26 -> A1-Dirigente e Resp.Unico del Progetto R.U.P. | F21: =CALCOLO!D26 -> 25 | G21: =IF(CALCOLO!O26="","",CALCOLO!O26) -> ROSSETTI ROMINA | H21: =IF(CALCOLO!P26="","",CALCOLO!P26) -> 100 | I21: =IF(CALCOLO!R26="","",CALCOLO!R26) | J21: =IF(CALCOLO!S26="","",CALCOLO!S26) | K21: =IF(CALCOLO!O27="","",CALCOLO!O27) | L21: =IF(CALCOLO!P27="","",CALCOLO!P27) | M21: =IF(CALCOLO!R27="","",CALCOLO!R27) | N21: =IF(CALCOLO!S27="","",CALCOLO!S27) | O21: =IF(CALCOLO!O28="","",CALCOLO!O28) | P21: =IF(CALCOLO!P28="","",CALCOLO!P28) | Q21: =IF(CALCOLO!R28="","",CALCOLO!R28) | R21: =IF(CALCOLO!S28="","",CALCOLO!S28)
B22: Quote: | G22: =IF(G21="","",CALCOLO!V26) -> 670.0716 | I22: =IF(I21="","",CALCOLO!X26) | K22: =IF(K21="","",CALCOLO!V27) | M22: =IF(M21="","",CALCOLO!X27) | O22: =IF(O21="","",CALCOLO!V28) | Q22: =IF(Q21="","",CALCOLO!X28) | S22: =CALCOLO!V26+CALCOLO!X26+CALCOLO!V27+CALCOLO!X27+CALCOLO!V28+CALCOLO!X28 -> 670.0716
B23: =CALCOLO!A29 -> A2 - Collaboratori del R.U.P. | F23: =CALCOLO!D29 -> 9 | G23: =IF(CALCOLO!O29="","",CALCOLO!O29) -> ALESSANDRONI | H23: =IF(CALCOLO!P29="","",CALCOLO!P29) -> 100 | I23: =IF(CALCOLO!R29="","",CALCOLO!R29) | J23: =IF(CALCOLO!S29="","",CALCOLO!S29) -> 0 | K23: =IF(CALCOLO!O30="","",CALCOLO!O30) | L23: =IF(CALCOLO!P30="","",CALCOLO!P30) | M23: =IF(CALCOLO!R30="","",CALCOLO!R30) | N23: =IF(CALCOLO!S30="","",CALCOLO!S30) | O23: =IF(CALCOLO!O31="","",CALCOLO!O31) | P23: =IF(CALCOLO!P31="","",CALCOLO!P31) | Q23: =IF(CALCOLO!R31="","",CALCOLO!R31) | R23: =IF(CALCOLO!S31="","",CALCOLO!S31)
B24: Quote: | G24: =IF(G23="","",CALCOLO!V29) -> 241.22578 | I24: =IF(I23="","",CALCOLO!X29) | K24: =IF(K23="","",CALCOLO!V30) | M24: =IF(M23="","",CALCOLO!X30) | O24: =IF(O23="","",CALCOLO!V31) | Q24: =IF(Q23="","",CALCOLO!X31) | S24: =CALCOLO!V29+CALCOLO!X29+CALCOLO!V30+CALCOLO!X30+CALCOLO!V31+CALCOLO!X31 -> 241.22578
B25: =CALCOLO!A32 -> B)Programmazione della spesa per investimenti
B26: =CALCOLO!A33 -> B1 - Programmaz. Parte tecnica | F26: =CALCOLO!D33 -> 0 | G26: =IF(CALCOLO!O33="","",CALCOLO!O33) | H26: =IF(CALCOLO!P33="","",CALCOLO!P33) -> 100 | I26: =IF(CALCOLO!R33="","",CALCOLO!R33) | J26: =IF(CALCOLO!S33="","",CALCOLO!S33) | K26: =IF(CALCOLO!O34="","",CALCOLO!O34) | L26: =IF(CALCOLO!P34="","",CALCOLO!P34) | M26: =IF(CALCOLO!R34="","",CALCOLO!R34) | N26: =IF(CALCOLO!S34="","",CALCOLO!S34) | O26: =IF(CALCOLO!O35="","",CALCOLO!O35) | P26: =IF(CALCOLO!P35="","",CALCOLO!P35) | Q26: =IF(CALCOLO!R35="","",CALCOLO!R35) | R26: =IF(CALCOLO!S35="","",CALCOLO!S35)
B27: Quote: | G27: =IF(G26="","",CALCOLO!V33) | I27: =IF(I26="","",CALCOLO!X33) | K27: =IF(K26="","",CALCOLO!V34) | M27: =IF(M26="","",CALCOLO!X34) | O27: =IF(O26="","",CALCOLO!V35) | Q27: =IF(Q26="","",CALCOLO!X35) | S27: =CALCOLO!V33+CALCOLO!X33+CALCOLO!V34+CALCOLO!X34+CALCOLO!V35+CALCOLO!X35 -> 0
B28: =CALCOLO!A36 -> B2 - Programmaz. Parte contabile | F28: =CALCOLO!D36 -> 4 | G28: =IF(CALCOLO!O36="","",CALCOLO!O36) -> CERESANI | H28: =IF(CALCOLO!P36="","",CALCOLO!P36) -> 14.28 | I28: =IF(CALCOLO!R36="","",CALCOLO!R36) -> KARAPYSH | J28: =IF(CALCOLO!S36="","",CALCOLO!S36) -> 14.28 | K28: =IF(CALCOLO!O37="","",CALCOLO!O37) -> BUFFARINI | L28: =IF(CALCOLO!P37="","",CALCOLO!P37) -> 14.28 | M28: =IF(CALCOLO!R37="","",CALCOLO!R37) -> LOCCIONI | N28: =IF(CALCOLO!S37="","",CALCOLO!S37) -> 14.28 | O28: =IF(CALCOLO!O38="","",CALCOLO!O38) -> IELENCOVICH | P28: =IF(CALCOLO!P38="","",CALCOLO!P38) -> 14.28 | Q28: =IF(CALCOLO!R38="","",CALCOLO!R38) -> VENTURA | R28: =IF(CALCOLO!S38="","",CALCOLO!S38) -> 14.28
B29: Quote: | G29: =IF(G28="","",CALCOLO!V36) -> 15.34 | I29: =IF(I28="","",CALCOLO!X36) -> 15.309796 | K29: =IF(K28="","",CALCOLO!V37) -> 15.34 | M29: =IF(M28="","",CALCOLO!X37) -> 15.309796 | O29: =IF(O28="","",CALCOLO!V38) -> 15.32 | Q29: =IF(Q28="","",CALCOLO!X38) -> 15.309796 | S29: 107.21
G30: ROMAGNOLI J. | H30: 14.28
G31: 15.3
Q32: Totale 1 | S32: =SUM(S21:S29) -> 1018.5074
B34: =CALCOLO!A40 -> C) Attività di progettazione - NO
B35: =CALCOLO!A41 -> C1 PROGETTAZIONE LIVELLO UNICO | F35: =CALCOLO!D41 -> 0 | G35: =IF(CALCOLO!I41="","",CALCOLO!I41) | H35: =IF(CALCOLO!P41="","",CALCOLO!P41) -> 100 | I35: =IF(CALCOLO!L41="","",CALCOLO!L41) | J35: =IF(CALCOLO!S41="","",CALCOLO!S41) | K35: =IF(CALCOLO!I42="","",CALCOLO!I42) | L35: =IF(CALCOLO!P42="","",CALCOLO!P42) | M35: =IF(CALCOLO!L42="","",CALCOLO!L42) | N35: =IF(CALCOLO!S42="","",CALCOLO!S42) | O35: =IF(CALCOLO!I43="","",CALCOLO!I43) | P35: =IF(CALCOLO!P43="","",CALCOLO!P43) | Q35: =IF(CALCOLO!L43="","",CALCOLO!L43) | R35: =IF(CALCOLO!S43="","",CALCOLO!S43)
B36: Quote: | G36: =IF(G35="","",CALCOLO!V41) | I36: =IF(I35="","",CALCOLO!X41) | K36: =IF(K35="","",CALCOLO!V42) | M36: =IF(M35="","",CALCOLO!X42) | O36: =IF(O35="","",CALCOLO!V43) | Q36: =IF(Q35="","",CALCOLO!X43) | S36: =CALCOLO!V41+CALCOLO!X41+CALCOLO!V42+CALCOLO!X42+CALCOLO!V43+CALCOLO!X43 -> 0
B37: =CALCOLO!#REF! -> #REF! | F37: =CALCOLO!#REF! -> #REF! | G37: =IF(CALCOLO!#REF!="","",CALCOLO!#REF!) -> #REF! | H37: =IF(CALCOLO!#REF!="","",CALCOLO!#REF!) -> #REF! | I37: =IF(CALCOLO!#REF!="","",CALCOLO!#REF!) -> #REF! | J37: =IF(CALCOLO!#REF!="","",CALCOLO!#REF!) -> #REF! | K37: =IF(CALCOLO!#REF!="","",CALCOLO!#REF!) -> #REF! | L37: =IF(CALCOLO!#REF!="","",CALCOLO!#REF!) -> #REF! | M37: =IF(CALCOLO!#REF!="","",CALCOLO!#REF!) -> #REF! | N37: =IF(CALCOLO!#REF!="","",CALCOLO!#REF!) -> #REF! | ... R37: =IF(CALCOLO!#REF!="","",CALCOLO!#REF!) -> #REF!
B38: Quote: | G38: =IF(G37="","",CALCOLO!#REF!) -> #REF! | I38: =IF(I37="","",CALCOLO!#REF!) -> #REF! | K38: =IF(K37="","",CALCOLO!#REF!) -> #REF! | M38: =IF(M37="","",CALCOLO!#REF!) -> #REF! | O38: =IF(O37="","",CALCOLO!#REF!) -> #REF! | Q38: =IF(Q37="","",CALCOLO!#REF!) -> #REF! | S38: 0
B39: =CALCOLO!#REF! -> #REF! | F39: =CALCOLO!#REF! -> #REF! | G39: =IF(CALCOLO!#REF!="","",CALCOLO!#REF!) -> #REF! | H39: =IF(CALCOLO!#REF!="","",CALCOLO!#REF!) -> #REF! | I39: =IF(CALCOLO!#REF!="","",CALCOLO!#REF!) -> #REF! | J39: =IF(CALCOLO!#REF!="","",CALCOLO!#REF!) -> #REF! | K39: =IF(CALCOLO!#REF!="","",CALCOLO!#REF!) -> #REF! | L39: =IF(CALCOLO!#REF!="","",CALCOLO!#REF!) -> #REF! | M39: =IF(CALCOLO!#REF!="","",CALCOLO!#REF!) -> #REF! | N39: =IF(CALCOLO!#REF!="","",CALCOLO!#REF!) -> #REF! | ... R39: =IF(CALCOLO!#REF!="","",CALCOLO!#REF!) -> #REF!
B40: Quote: | G40: =IF(G39="","",CALCOLO!#REF!) -> #REF! | I40: =IF(I39="","",CALCOLO!#REF!) -> #REF! | K40: =IF(K39="","",CALCOLO!#REF!) -> #REF! | M40: =IF(M39="","",CALCOLO!#REF!) -> #REF! | O40: =IF(O39="","",CALCOLO!#REF!) -> #REF! | Q40: =IF(Q39="","",CALCOLO!#REF!) -> #REF! | S40: =CALCOLO!#REF!+CALCOLO!#REF!+CALCOLO!#REF!+CALCOLO!#REF!+CALCOLO!#REF!+CALCOLO!#REF! -> #REF!
B41: =CALCOLO!#REF! -> #REF! | F41: =CALCOLO!#REF! -> #REF! | G41: =IF(CALCOLO!#REF!="","",CALCOLO!#REF!) -> #REF! | H41: =IF(CALCOLO!#REF!="","",CALCOLO!#REF!) -> #REF! | I41: =IF(CALCOLO!#REF!="","",CALCOLO!#REF!) -> #REF! | J41: =IF(CALCOLO!#REF!="","",CALCOLO!#REF!) -> #REF! | K41: =IF(CALCOLO!#REF!="","",CALCOLO!#REF!) -> #REF! | L41: =IF(CALCOLO!#REF!="","",CALCOLO!#REF!) -> #REF! | M41: =IF(CALCOLO!#REF!="","",CALCOLO!#REF!) -> #REF! | N41: =IF(CALCOLO!#REF!="","",CALCOLO!#REF!) -> #REF! | ... R41: =IF(CALCOLO!#REF!="","",CALCOLO!#REF!) -> #REF!
B42: Quote: | G42: =IF(G41="","",CALCOLO!#REF!) -> #REF! | I42: =IF(I41="","",CALCOLO!#REF!) -> #REF! | K42: =IF(K41="","",CALCOLO!#REF!) -> #REF! | M42: =IF(M41="","",CALCOLO!#REF!) -> #REF! | O42: =IF(O41="","",CALCOLO!#REF!) -> #REF! | Q42: =IF(Q41="","",CALCOLO!#REF!) -> #REF! | S42: =CALCOLO!#REF!+CALCOLO!#REF!+CALCOLO!#REF!+CALCOLO!#REF!+CALCOLO!#REF!+CALCOLO!#REF! -> #REF!
B43: =CALCOLO!A44 -> D) - Attività di Predisposizione, svolgimento e controllo procedure di gara e relativa responsabilità di fase - NO
B44: =CALCOLO!A45 -> D1 - Attività di Predisposizione, svolgimento e controllo procedure di gara e relativa responsabiità di fase | F44: =CALCOLO!D45 -> 0 | G44: =IF(CALCOLO!I45="","",CALCOLO!I45) | H44: =IF(CALCOLO!P45="","",CALCOLO!P45) -> 100 | I44: =IF(CALCOLO!L45="","",CALCOLO!L45) | J44: =IF(CALCOLO!S45="","",CALCOLO!S45) | K44: =IF(CALCOLO!I46="","",CALCOLO!I46) | L44: =IF(CALCOLO!P46="","",CALCOLO!P46) | M44: =IF(CALCOLO!L46="","",CALCOLO!L46) | N44: =IF(CALCOLO!S46="","",CALCOLO!S46) | O44: =IF(CALCOLO!I47="","",CALCOLO!I47) | P44: =IF(CALCOLO!P47="","",CALCOLO!P47) | Q44: =IF(CALCOLO!L47="","",CALCOLO!L47) | R44: =IF(CALCOLO!S47="","",CALCOLO!S47)
B45: Quote: | G45: =IF(G44="","",CALCOLO!V45) | I45: =IF(I44="","",CALCOLO!X45) | K45: =IF(K44="","",CALCOLO!V46) | M45: =IF(M44="","",CALCOLO!X46) | O45: =IF(O44="","",CALCOLO!V47) | Q45: =IF(Q44="","",CALCOLO!X47) | S45: =CALCOLO!V45+CALCOLO!X45+CALCOLO!V46+CALCOLO!X46+CALCOLO!V47+CALCOLO!X47 -> 0
Q46: Totale 2 | S46: 0
A48: 2°Fase | B48: =CALCOLO!A48 -> E) Attività di Direzione Esecuzione
...

Sheet Oneri
A1: Nominativo | B1: Tot. lordo | C1: Oneri Inpdap | D1: Oneri Irap | E1: Netto
A2: ROSSETTI ROMINA | B2: 670.08 | C2: =ROUND(E2*23.8%,2) -> 120.54 | D2: =ROUND(E2*8.5%,2) -> 43.05 | E2: =ROUND(B2/132.3%,2) -> 506.49
A3: ALESSANDRONI FRANCESCA | B3: 241.22 | C3: =ROUND(E3*23.8%,2) -> 43.39 | D3: =ROUND(E3*8.5%,2) -> 15.5 | E3: =ROUND(B3/132.3%,2) -> 182.33
A4: CERESANI ANNA | B4: 15.34 | C4: =ROUND(E4*23.8%,2) -> 2.76 | D4: =ROUND(E4*8.5%,2) -> 0.99 | E4: =ROUND(B4/132.3%,2) -> 11.59
A5: KARAPYSH NATALIYA | B5: 15.3 | C5: =ROUND(E5*23.8%,2) -> 2.75 | D5: =ROUND(E5*8.5%,2) -> 0.98 | E5: =ROUND(B5/132.3%,2) -> 11.56
A6: BUFFARINI GRAZIELLA | B6: 15.34 | C6: =ROUND(E6*23.8%,2) -> 2.76 | D6: =ROUND(E6*8.5%,2) -> 0.99 | E6: =ROUND(B6/132.3%,2) -> 11.59
A7: LOCCIONI LORENA | B7: 15.3 | C7: =ROUND(E7*23.8%,2) -> 2.75 | D7: =ROUND(E7*8.5%,2) -> 0.98 | E7: =ROUND(B7/132.3%,2) -> 11.56
A8: IELENCOVICH ROMINA | B8: 15.32 | C8: =ROUND(E8*23.8%,2) -> 2.76 | D8: =ROUND(E8*8.5%,2) -> 0.98 | E8: =ROUND(B8/132.3%,2) -> 11.58
A9: VENTURA GIUSEPPINA | B9: 15.3 | C9: =ROUND(E9*23.8%,2) -> 2.75 | D9: =ROUND(E9*8.5%,2) -> 0.98 | E9: =ROUND(B9/132.3%,2) -> 11.56
A10: ROMAGNOLI JENNY | B10: 15.3 | C10: =ROUND(E10*23.8%,2) -> 2.75 | D10: =ROUND(E10*8.5%,2) -> 0.98 | E10: =ROUND(B10/132.3%,2) -> 11.56
A11: SCOZZARI MARCO | B11: 670.07 | C11: =ROUND(E11*23.8%,2) -> 120.54 | D11: =ROUND(E11*8.5%,2) -> 43.05 | E11: =ROUND(B11/132.3%,2) -> 506.48
A12: BALZANI CARMEN | B12: 134.01 | C12: =ROUND(E12*23.8%,2) -> 24.11 | D12: =ROUND(E12*8.5%,2) -> 8.61 | E12: =ROUND(B12/132.3%,2) -> 101.29
A13: CAMPOLUCCI ALBERTO | B13: 80.41 | C13: =ROUND(E13*23.8%,2) -> 14.47 | D13: =ROUND(E13*8.5%,2) -> 5.17 | E13: =ROUND(B13/132.3%,2) -> 60.78
... A15: ROMAGNOLI LUIGI | B15: 187.62 | C15: =ROUND(E15*23.8%,2) -> 33.75 | D15: =ROUND(E15*8.5%,2) -> 12.05 | E15: =ROUND(B15/132.3%,2) -> 141.81
A16: totali | B16: =SUM(B2:B15) -> 2144.22 | C16: =SUM(C2:C15) -> 385.72 | D16: =SUM(D2:D15) -> 137.75 | E16: =SUM(E2:E15) -> 1620.7
